BEGIN:VCALENDAR
VERSION:2.0
PRODID:-//Cassia - ECPv6.15.20//NONSGML v1.0//EN
CALSCALE:GREGORIAN
METHOD:PUBLISH
X-ORIGINAL-URL:https://www.cassialife.org
X-WR-CALDESC:Events for Cassia
REFRESH-INTERVAL;VALUE=DURATION:PT1H
X-Robots-Tag:noindex
X-PUBLISHED-TTL:PT1H
BEGIN:VTIMEZONE
TZID:America/Chicago
BEGIN:DAYLIGHT
TZOFFSETFROM:-0600
TZOFFSETTO:-0500
TZNAME:CDT
DTSTART:20230312T080000
END:DAYLIGHT
BEGIN:STANDARD
TZOFFSETFROM:-0500
TZOFFSETTO:-0600
TZNAME:CST
DTSTART:20231105T070000
END:STANDARD
BEGIN:DAYLIGHT
TZOFFSETFROM:-0600
TZOFFSETTO:-0500
TZNAME:CDT
DTSTART:20240310T080000
END:DAYLIGHT
BEGIN:STANDARD
TZOFFSETFROM:-0500
TZOFFSETTO:-0600
TZNAME:CST
DTSTART:20241103T070000
END:STANDARD
BEGIN:DAYLIGHT
TZOFFSETFROM:-0600
TZOFFSETTO:-0500
TZNAME:CDT
DTSTART:20250309T080000
END:DAYLIGHT
BEGIN:STANDARD
TZOFFSETFROM:-0500
TZOFFSETTO:-0600
TZNAME:CST
DTSTART:20251102T070000
END:STANDARD
END:VTIMEZONE
BEGIN:VEVENT
DTSTART;TZID=America/Chicago:20240808T140000
DTEND;TZID=America/Chicago:20240808T160000
DTSTAMP:20260424T111546
CREATED:20240716T172148Z
LAST-MODIFIED:20240716T172148Z
UID:10000050-1723125600-1723132800@www.cassialife.org
SUMMARY:West St. Paul Career Force Hiring Event August 2024
DESCRIPTION:Join us at the CareerForce in West St. Paul for an all industry hiring event. Meet with a Cassia recruiter to learn about a variety of positions at our senior care communities\, including CNAs\, Dietary Aides\, Cooks\, Housekeeping and more!
URL:https://www.cassialife.org/event/west-st-paul-career-force-hiring-event-august-2024/
LOCATION:CareerForce MN (Mendota)\, 1 Mendota Road W Suite 170\, West St. Paul\, MN\, 55118\, United States
ORGANIZER;CN="Cassia":MAILTO:Info@CassiaLife.org
END:VEVENT
END:VCALENDAR