BEGIN:VCALENDAR
VERSION:2.0
PRODID:-//Cassia - ECPv6.15.20//NONSGML v1.0//EN
CALSCALE:GREGORIAN
METHOD:PUBLISH
X-WR-CALNAME:Cassia
X-ORIGINAL-URL:https://www.cassialife.org
X-WR-CALDESC:Events for Cassia
REFRESH-INTERVAL;VALUE=DURATION:PT1H
X-Robots-Tag:noindex
X-PUBLISHED-TTL:PT1H
BEGIN:VTIMEZONE
TZID:America/Chicago
BEGIN:DAYLIGHT
TZOFFSETFROM:-0600
TZOFFSETTO:-0500
TZNAME:CDT
DTSTART:20230312T080000
END:DAYLIGHT
BEGIN:STANDARD
TZOFFSETFROM:-0500
TZOFFSETTO:-0600
TZNAME:CST
DTSTART:20231105T070000
END:STANDARD
BEGIN:DAYLIGHT
TZOFFSETFROM:-0600
TZOFFSETTO:-0500
TZNAME:CDT
DTSTART:20240310T080000
END:DAYLIGHT
BEGIN:STANDARD
TZOFFSETFROM:-0500
TZOFFSETTO:-0600
TZNAME:CST
DTSTART:20241103T070000
END:STANDARD
BEGIN:DAYLIGHT
TZOFFSETFROM:-0600
TZOFFSETTO:-0500
TZNAME:CDT
DTSTART:20250309T080000
END:DAYLIGHT
BEGIN:STANDARD
TZOFFSETFROM:-0500
TZOFFSETTO:-0600
TZNAME:CST
DTSTART:20251102T070000
END:STANDARD
END:VTIMEZONE
BEGIN:VEVENT
DTSTART;TZID=America/Chicago:20240709T080000
DTEND;TZID=America/Chicago:20240709T170000
DTSTAMP:20260424T080255
CREATED:20240624T153028Z
LAST-MODIFIED:20240624T153047Z
UID:10000047-1720512000-1720544400@www.cassialife.org
SUMMARY:Seize Your Future: Virtual Job Fair for RNs and LPNs at Elim Wellspring Princeton (MN) - Explore Full-Time and Part-Time Opportunities!
DESCRIPTION:Don’t miss this opportunity to join a passionate team and make a meaningful impact in senior care! \nFor more information and to register\, visit Virtual Career Fair or send your resume to Jill.Longbella@CassiaLife.org.
URL:https://www.cassialife.org/event/virtual-job-fair-princeton-0724/
LOCATION:MN
ORGANIZER;CN="Cassia Careers":MAILTO:Jobs@CassiaLife.org
END:VEVENT
BEGIN:VEVENT
DTSTART;TZID=America/Chicago:20240723T110000
DTEND;TZID=America/Chicago:20240723T130000
DTSTAMP:20260424T080255
CREATED:20240716T171652Z
LAST-MODIFIED:20240716T171652Z
UID:10000048-1721732400-1721739600@www.cassialife.org
SUMMARY:Avivo Job Fair
DESCRIPTION:Avivo in Minneapolis is hosting a job fair for their clients. Cassia is hiring Part-Time and Full-Time for Caregivers\, Culinary Assistance\, Environmental Services and more! Jobs are on the busline in Minneapolis!
URL:https://www.cassialife.org/event/avivo-job-fair/
LOCATION:Avivo\, 1825 Chicago Avenue\, Minneapolis\, MN\, 55404\, United States
ORGANIZER;CN="Cassia":MAILTO:Info@CassiaLife.org
END:VEVENT
BEGIN:VEVENT
DTSTART;TZID=America/Chicago:20240723T140000
DTEND;TZID=America/Chicago:20240723T160000
DTSTAMP:20260424T080255
CREATED:20240716T171948Z
LAST-MODIFIED:20240716T171948Z
UID:10000049-1721743200-1721750400@www.cassialife.org
SUMMARY:West St. Paul Career Force Hiring Event
DESCRIPTION:Join us at the CareerForce in West St. Paul for an all industry hiring event. Meet with a Cassia recruiter to learn about a variety of positions at our senior care communities\, including CNAs\, Dietary Aides\, Cooks\, Housekeeping and more!
URL:https://www.cassialife.org/event/west-st-paul-career-force-hiring-event/
LOCATION:CareerForce MN (Mendota)\, 1 Mendota Road W Suite 170\, West St. Paul\, MN\, 55118\, United States
ORGANIZER;CN="Cassia":MAILTO:Info@CassiaLife.org
END:VEVENT
END:VCALENDAR