BEGIN:VCALENDAR
VERSION:2.0
PRODID:-//Cassia - ECPv6.15.20//NONSGML v1.0//EN
CALSCALE:GREGORIAN
METHOD:PUBLISH
X-WR-CALNAME:Cassia
X-ORIGINAL-URL:https://www.cassialife.org
X-WR-CALDESC:Events for Cassia
REFRESH-INTERVAL;VALUE=DURATION:PT1H
X-Robots-Tag:noindex
X-PUBLISHED-TTL:PT1H
BEGIN:VTIMEZONE
TZID:America/Chicago
BEGIN:DAYLIGHT
TZOFFSETFROM:-0600
TZOFFSETTO:-0500
TZNAME:CDT
DTSTART:20230312T080000
END:DAYLIGHT
BEGIN:STANDARD
TZOFFSETFROM:-0500
TZOFFSETTO:-0600
TZNAME:CST
DTSTART:20231105T070000
END:STANDARD
BEGIN:DAYLIGHT
TZOFFSETFROM:-0600
TZOFFSETTO:-0500
TZNAME:CDT
DTSTART:20240310T080000
END:DAYLIGHT
BEGIN:STANDARD
TZOFFSETFROM:-0500
TZOFFSETTO:-0600
TZNAME:CST
DTSTART:20241103T070000
END:STANDARD
BEGIN:DAYLIGHT
TZOFFSETFROM:-0600
TZOFFSETTO:-0500
TZNAME:CDT
DTSTART:20250309T080000
END:DAYLIGHT
BEGIN:STANDARD
TZOFFSETFROM:-0500
TZOFFSETTO:-0600
TZNAME:CST
DTSTART:20251102T070000
END:STANDARD
BEGIN:DAYLIGHT
TZOFFSETFROM:-0600
TZOFFSETTO:-0500
TZNAME:CDT
DTSTART:20260308T080000
END:DAYLIGHT
BEGIN:STANDARD
TZOFFSETFROM:-0500
TZOFFSETTO:-0600
TZNAME:CST
DTSTART:20261101T070000
END:STANDARD
END:VTIMEZONE
BEGIN:VEVENT
DTSTART;TZID=America/Chicago:20250131T130000
DTEND;TZID=America/Chicago:20250131T163000
DTSTAMP:20260423T093132
CREATED:20250113T173756Z
LAST-MODIFIED:20250113T183036Z
UID:10000085-1738328400-1738341000@www.cassialife.org
SUMMARY:SCSU Diversity Job & Internship Fair at St. Cloud State University
DESCRIPTION:Come visit with a Cassia recruiter to learn about our Caregiver\, CNA\, Culinary positions and more. The Diversity Job and Internship Fair is the largest diversity recruiting event of its kind in Minnesota. Stop by our table at the Atwood Memorial Center to learn more!
URL:https://www.cassialife.org/event/scsu-diversity-job-internship-fair/
LOCATION:St. Cloud State University – Atwood Memorial Center\, 651 1st Ave S\, St Cloud\, MN 56301\, St. Cloud\, MN\, 56301\, United States
END:VEVENT
BEGIN:VEVENT
DTSTART;TZID=America/Chicago:20240126T130000
DTEND;TZID=America/Chicago:20240126T160000
DTSTAMP:20260423T093132
CREATED:20240206T142841Z
LAST-MODIFIED:20240206T142841Z
UID:10000028-1706274000-1706284800@www.cassialife.org
SUMMARY:St. Cloud State University's Diversity Job & Internship Fair
DESCRIPTION:St. Cloud State University’s largest career fair is fast approaching – The Diversity Job & Internship Fair scheduled for Friday\, January 26th from 1:00-4:00 PM on the campus of St. Cloud State University. This fair is for all students and all majors. (It is held in conjunction with a two-day Diversity Conference that is also going on). Students from SCSU are invited to attend as well as all of the 2 and 4 year colleges in Minnesota.
URL:https://www.cassialife.org/event/st-cloud-state-universitys-diversity-job-internship-fair/
LOCATION:St. Cloud State University Atwood Center\, 651 1st Ave S\, St. Cloud\, MN\, 56301\, United States
END:VEVENT
END:VCALENDAR