BEGIN:VCALENDAR
VERSION:2.0
PRODID:-//Cassia - ECPv6.15.20//NONSGML v1.0//EN
CALSCALE:GREGORIAN
METHOD:PUBLISH
X-WR-CALNAME:Cassia
X-ORIGINAL-URL:https://www.cassialife.org
X-WR-CALDESC:Events for Cassia
REFRESH-INTERVAL;VALUE=DURATION:PT1H
X-Robots-Tag:noindex
X-PUBLISHED-TTL:PT1H
BEGIN:VTIMEZONE
TZID:America/Chicago
BEGIN:DAYLIGHT
TZOFFSETFROM:-0600
TZOFFSETTO:-0500
TZNAME:CDT
DTSTART:20240310T080000
END:DAYLIGHT
BEGIN:STANDARD
TZOFFSETFROM:-0500
TZOFFSETTO:-0600
TZNAME:CST
DTSTART:20241103T070000
END:STANDARD
BEGIN:DAYLIGHT
TZOFFSETFROM:-0600
TZOFFSETTO:-0500
TZNAME:CDT
DTSTART:20250309T080000
END:DAYLIGHT
BEGIN:STANDARD
TZOFFSETFROM:-0500
TZOFFSETTO:-0600
TZNAME:CST
DTSTART:20251102T070000
END:STANDARD
BEGIN:DAYLIGHT
TZOFFSETFROM:-0600
TZOFFSETTO:-0500
TZNAME:CDT
DTSTART:20260308T080000
END:DAYLIGHT
BEGIN:STANDARD
TZOFFSETFROM:-0500
TZOFFSETTO:-0600
TZNAME:CST
DTSTART:20261101T070000
END:STANDARD
END:VTIMEZONE
BEGIN:VEVENT
DTSTART;TZID=America/Chicago:20250130T140000
DTEND;TZID=America/Chicago:20250130T160000
DTSTAMP:20260423T075057
CREATED:20250113T182759Z
LAST-MODIFIED:20250113T182759Z
UID:10000088-1738245600-1738252800@www.cassialife.org
SUMMARY:CareerForce Hiring Event in West St Paul
DESCRIPTION:Talk to a recruiter about open positions at Cassia!
URL:https://www.cassialife.org/event/careerforce-hiring-event-in-west-st-paul/
LOCATION:CareerForce West St Paul\, 1 Mendota Rd #170\, West St Paul\, MN 55118\, West St Paul\, MN\, 55118\, United States
ORGANIZER;CN="CareerForce West St Paul":MAILTO:careerforce.westsaintpaul@state.mn.us
END:VEVENT
END:VCALENDAR